BEGIN:VCALENDAR
VERSION:2.0
PRODID:-//jEvents 2.0 for Joomla//EN
CALSCALE:GREGORIAN
METHOD:PUBLISH
BEGIN:VEVENT
UID:2e3d7787184b4ff35fce0e97774f9157
CATEGORIES:Ostatní sporty
CREATED:20210903T003251
SUMMARY:O Pohár města Děčína
LOCATION:Děčín - Březiny, fotbalové hřiště
DESCRIPTION;ENCODING=QUOTED-PRINTABLE:O Pohár města Děčína 2021 - agility závody - soutěž týmu (člověk + pes) běh
 y přes překážky
DTSTAMP:20260425T010139Z
DTSTART:20210928T060000Z
DTEND:20210928T150000Z
SEQUENCE:0
TRANSP:OPAQUE
END:VEVENT
END:VCALENDAR