BEGIN:VCALENDAR
VERSION:2.0
PRODID:-//jEvents 2.0 for Joomla//EN
CALSCALE:GREGORIAN
METHOD:PUBLISH
BEGIN:VEVENT
UID:e88c4d06080179b8a51db2a77e55a771
CATEGORIES:Hokej
CREATED:20210830T143749
SUMMARY:Pojď hrát hokej
LOCATION:Zimní stadion Děčín
DESCRIPTION;ENCODING=QUOTED-PRINTABLE:\n\nV úterý 21.9. od 16:00 hod. budou mít všechny děti bez rozdílu dovednos
 ti bruslení jedinečnou možnost vyzkoušet si zdarma, jaké to je být hokejist
 ou. HC Děčín ve spolupráci s Českým hokejem pořádá na zimním stadionu v Děč
 íně akci v rámci Týdne hokeje. Kromě zážitku v podobě prvních krůčků na led
 ě si každé dítě navíc s sebou domů odnese zajímavý hokejový dárek. Přijďte 
 si vyzkoušet lední hokej a zažijte spoustu zábavy!\n\n\nCo všechno je potře
 ba si na akci přinést? Stačí jen brusle, helma a rukavice (postačí i lyžařs
 ká helma a rukavice). V případě, že máte doma chrániče loktů a kolen pro in
 -line bruslení, vezměte je rovněž s sebou. Pokud nedisponujete bruslemi a h
 elmou, můžete se obrátit na Daniela Volrába (774 579 196, Tato e-mailová ad
 resa je chráněna před spamboty. Pro její zobrazení musíte mít povolen Javas
 cript.
				document.getElementById('cloake358f68c411e47b52d3b47afb01d3fdf')
 .innerHTML = '';
				var prefix = '&#109;a' + 'i&#108;' + '&#116;o';
				va
 r path = 'hr' + 'ef' + '=';
				var addye358f68c411e47b52d3b47afb01d3fdf = 
 'v&#111;lr&#97;b11' + '&#64;';
				addye358f68c411e47b52d3b47afb01d3fdf = a
 ddye358f68c411e47b52d3b47afb01d3fdf + 's&#101;zn&#97;m' + '&#46;' + 'cz';
	
 			var addy_texte358f68c411e47b52d3b47afb01d3fdf = 'v&#111;lr&#97;b11' + '&
 #64;' + 's&#101;zn&#97;m' + '&#46;' + 'cz';document.getElementById('cloake3
 58f68c411e47b52d3b47afb01d3fdf').innerHTML += ''+addy_texte358f68c411e47b52
 d3b47afb01d3fdf+'';
		) s dotazem na možnost zapůjčení vybavení přímo na mí
 stě. Zároveň prosím sledujte aktuální proti epidemická opatření a přijďte n
 a akci vybaveni v souladu s platnými nařízeními.\n
DTSTAMP:20260426T025228Z
DTSTART:20210921T140000Z
DTEND:20210921T160000Z
SEQUENCE:0
TRANSP:OPAQUE
END:VEVENT
END:VCALENDAR