BEGIN:VCALENDAR
VERSION:2.0
PRODID:-//jEvents 2.0 for Joomla//EN
CALSCALE:GREGORIAN
METHOD:PUBLISH
BEGIN:VEVENT
UID:406a7547ca3957d886f8613fdbcac262
CATEGORIES:Hokej
CREATED:20210827T075409
SUMMARY:HC Děčín - HC Stadion Litoměřice
LOCATION:Zimní stadion Děčín
DESCRIPTION;ENCODING=QUOTED-PRINTABLE:\n\nPřípravné utkání dorostu\n
DTSTAMP:20260425T175711Z
DTSTART:20210831T160000Z
DTEND:20210831T180000Z
SEQUENCE:0
TRANSP:OPAQUE
END:VEVENT
END:VCALENDAR