BEGIN:VCALENDAR
VERSION:2.0
PRODID:-//jEvents 2.0 for Joomla//EN
CALSCALE:GREGORIAN
METHOD:PUBLISH
BEGIN:VEVENT
UID:4439d31329c896e8c9bc8c72e7546b85
CATEGORIES:Basketbal
CREATED:20210824T091544
SUMMARY:ZÁPIS Válečnic a Válečníků 
LOCATION:ARMEX Sportcentrum
DESCRIPTION;ENCODING=QUOTED-PRINTABLE:\n\nNa věku nezáleží, prostě si to přijďte vyzkoušet... \n\n\nJako jeden z 
 mála klubů v Čr máme status SPORTOVNÍHO CENTRA MLÁDEŽE!\n\n\nPřijímáme holk
 y i kluky a to nejčastěji od věku 6ti let! \n\n\nPokud nemůžete v tomto ter
 mínu, tak volejte na číslo 774597780 a nebo piště na email: Tato e-mailová 
 adresa je chráněna před spamboty. Pro její zobrazení musíte mít povolen Jav
 ascript.
				document.getElementById('cloak5ff8a7f0d80578c1c5ece830373422bd
 ').innerHTML = '';
				var prefix = '&#109;a' + 'i&#108;' + '&#116;o';
				
 var path = 'hr' + 'ef' + '=';
				var addy5ff8a7f0d80578c1c5ece830373422bd 
 = 'l&#97;nd&#97;' + '&#64;';
				addy5ff8a7f0d80578c1c5ece830373422bd = add
 y5ff8a7f0d80578c1c5ece830373422bd + 'bkd&#101;c&#105;n' + '&#46;' + 'cz';
	
 			var addy_text5ff8a7f0d80578c1c5ece830373422bd = 'l&#97;nd&#97;' + '&#64;
 ' + 'bkd&#101;c&#105;n' + '&#46;' + 'cz';document.getElementById('cloak5ff8
 a7f0d80578c1c5ece830373422bd').innerHTML += ''+addy_text5ff8a7f0d80578c1c5e
 ce830373422bd+'';
		 \n
CONTACT:Tato e-mailová adresa je chráněna před spamboty. Pro její zobrazení musíte mít povolen Javascript.
				document.getElementById('cloakfddf9e93902e134e8f1fe6e61471c545').innerHTML = '';
				var prefix = '&#109;a' + 'i&#108;' + '&#116;o';
				var path = 'hr' + 'ef' + '=';
				var addyfddf9e93902e134e8f1fe6e61471c545 = 'h&#111;&#117;sk&#97;' + '&#64;';
				addyfddf9e93902e134e8f1fe6e61471c545 = addyfddf9e93902e134e8f1fe6e61471c545 + 'bkd&#101;c&#105;n' + '&#46;' + 'cz';
				var addy_textfddf9e93902e134e8f1fe6e61471c545 = 'h&#111;&#117;sk&#97;' + '&#64;' + 'bkd&#101;c&#105;n' + '&#46;' + 'cz';document.getElementById('cloakfddf9e93902e134e8f1fe6e61471c545').innerHTML += ''+addy_textfddf9e93902e134e8f1fe6e61471c545+'';
		
DTSTAMP:20260425T175440Z
DTSTART:20210906T150000Z
DTEND:20210906T160000Z
SEQUENCE:0
TRANSP:OPAQUE
END:VEVENT
END:VCALENDAR