BEGIN:VCALENDAR
VERSION:2.0
PRODID:-//jEvents 2.0 for Joomla//EN
CALSCALE:GREGORIAN
METHOD:PUBLISH
BEGIN:VEVENT
UID:f5d508a9f9ad3425747017c719f01fef
CATEGORIES:Futsal
CREATED:20210822T194250
SUMMARY:Okresní přebor ve futsale
LOCATION:hřiště TJ Slavoj Děčín
DESCRIPTION;ENCODING=QUOTED-PRINTABLE:
DTSTAMP:20260425T184628Z
DTSTART:20210906T173000Z
DTEND:20210906T193500Z
SEQUENCE:0
TRANSP:OPAQUE
END:VEVENT
END:VCALENDAR