BEGIN:VCALENDAR
VERSION:2.0
PRODID:-//jEvents 2.0 for Joomla//EN
CALSCALE:GREGORIAN
METHOD:PUBLISH
BEGIN:VEVENT
UID:3e338fdc05fbd04f56580cac1f4bd8b6
CATEGORIES:Futsal
CREATED:20210822T132801
SUMMARY:Okresní přebor ve futsale
LOCATION:hřiště Kocanda
DESCRIPTION;ENCODING=QUOTED-PRINTABLE:
DTSTAMP:20260425T124236Z
DTSTART:20210903T163000Z
DTEND:20210903T193500Z
SEQUENCE:0
TRANSP:OPAQUE
END:VEVENT
END:VCALENDAR