BEGIN:VCALENDAR
VERSION:2.0
PRODID:-//jEvents 2.0 for Joomla//EN
CALSCALE:GREGORIAN
METHOD:PUBLISH
BEGIN:VEVENT
UID:761634fe6a4fcb17243725ccd2c1045e
CATEGORIES:Futsal
CREATED:20210822T130047
SUMMARY:Okresní přebor ve futsale
LOCATION:hřiště Kocanda
DESCRIPTION;ENCODING=QUOTED-PRINTABLE:
DTSTAMP:20260426T040706Z
DTSTART:20211001T163000Z
DTEND:20211001T193500Z
SEQUENCE:0
TRANSP:OPAQUE
END:VEVENT
END:VCALENDAR