BEGIN:VCALENDAR
VERSION:2.0
PRODID:-//jEvents 2.0 for Joomla//EN
CALSCALE:GREGORIAN
METHOD:PUBLISH
BEGIN:VEVENT
UID:006d03c68f8e76ffb16393e3a5b4013e
CATEGORIES:Futsal
CREATED:20210822T115016
SUMMARY:Zahájení Okresních futsalových soutěží
LOCATION:hřiště TJ Slavoj Děčín
DESCRIPTION;ENCODING=QUOTED-PRINTABLE:
DTSTAMP:20260425T190439Z
DTSTART:20210830T163000Z
DTEND:20210830T183000Z
SEQUENCE:0
TRANSP:OPAQUE
END:VEVENT
END:VCALENDAR