BEGIN:VCALENDAR
VERSION:2.0
PRODID:-//jEvents 2.0 for Joomla//EN
CALSCALE:GREGORIAN
METHOD:PUBLISH
BEGIN:VEVENT
UID:b2ba38e3379c9e9774d9161cf008a40b
CATEGORIES:Fotbal
CREATED:20210714T224643
SUMMARY:Přátelské utkání
LOCATION:Areál SK BŘEZINY
DESCRIPTION;ENCODING=QUOTED-PRINTABLE:Fk Jílové : SK Skalice\n
CONTACT:Tato e-mailová adresa je chráněna před spamboty. Pro její zobrazení musíte mít povolen Javascript.
				document.getElementById('cloak2ff1d313522f0f110803cb563f80a401').innerHTML = '';
				var prefix = '&#109;a' + 'i&#108;' + '&#116;o';
				var path = 'hr' + 'ef' + '=';
				var addy2ff1d313522f0f110803cb563f80a401 = 'f&#111;tb&#97;lbr&#101;z&#105;ny' + '&#64;';
				addy2ff1d313522f0f110803cb563f80a401 = addy2ff1d313522f0f110803cb563f80a401 + 's&#101;zn&#97;m' + '&#46;' + 'cz';
				var addy_text2ff1d313522f0f110803cb563f80a401 = 'f&#111;tb&#97;lbr&#101;z&#105;ny' + '&#64;' + 's&#101;zn&#97;m' + '&#46;' + 'cz';document.getElementById('cloak2ff1d313522f0f110803cb563f80a401').innerHTML += ''+addy_text2ff1d313522f0f110803cb563f80a401+'';
		, 724925406
DTSTAMP:20260425T120858Z
DTSTART:20210717T140000Z
DTEND:20210717T160000Z
SEQUENCE:0
TRANSP:OPAQUE
END:VEVENT
END:VCALENDAR