BEGIN:VCALENDAR
VERSION:2.0
PRODID:-//jEvents 2.0 for Joomla//EN
CALSCALE:GREGORIAN
METHOD:PUBLISH
BEGIN:VEVENT
UID:6823d718286e83e907d250f2cefa7d92
CATEGORIES:VOLNÝ ČÁS
CREATED:20210707T154005
SUMMARY:Výlet s NW na Grosser Winterberg
LOCATION:Schmilka
DESCRIPTION;ENCODING=QUOTED-PRINTABLE:\n\nSpolečný výlet s překrásnými výhledy na údolí Labe a skalní masívy Sask
 ého Švýcarska cestou na Grosser Winterberg. Doporučuji výlet absolvovat s h
 olemi, kdo nemá, mohu zapůjčit, zúčastnit se ale můžete i bez nich. Cestou 
 nahoru budeme zdolávat převýšení také po skalních či kovových schodech, dol
 ů se již půjde po pohodlné cestě. Tempo přizpůsobíme i těm pomalejším. Délk
 a 14 km.\n\n\nFotky z této trasy můžete vidět na FB Nordic Walking Děčín - 
 https://www.facebook.com/nwdecin/, více informací o technice Nordic Walking
  na https://jitkakocova.cz/nordic_walking/\n\n\nSraz na parkovišti u děčíns
 ké knihovny v sobotu 17.7. v 8:30, autem se přepravíme do Schmilky. Je nutn
 é se přihlásit předem kvůli organizaci spolujízdy, parkovné je v ceně výlet
 u. Budeme se pohybovat těsně za hranicemi Německa, doporučuji tedy zvážit p
 ojištění. \n
CONTACT:Tato e-mailová adresa je chráněna před spamboty. Pro její zobrazení musíte mít povolen Javascript.
				document.getElementById('cloak5091f5d92df1a2cd495487e86fc25abd').innerHTML = '';
				var prefix = '&#109;a' + 'i&#108;' + '&#116;o';
				var path = 'hr' + 'ef' + '=';
				var addy5091f5d92df1a2cd495487e86fc25abd = '&#105;nf&#111;' + '&#64;';
				addy5091f5d92df1a2cd495487e86fc25abd = addy5091f5d92df1a2cd495487e86fc25abd + 'j&#105;tk&#97;k&#111;c&#111;v&#97;' + '&#46;' + 'cz';
				var addy_text5091f5d92df1a2cd495487e86fc25abd = '&#105;nf&#111;' + '&#64;' + 'j&#105;tk&#97;k&#111;c&#111;v&#97;' + '&#46;' + 'cz';document.getElementById('cloak5091f5d92df1a2cd495487e86fc25abd').innerHTML += ''+addy_text5091f5d92df1a2cd495487e86fc25abd+'';
		
DTSTAMP:20260425T184205Z
DTSTART:20210717T063000Z
DTEND:20210717T130000Z
SEQUENCE:0
TRANSP:OPAQUE
END:VEVENT
END:VCALENDAR