BEGIN:VCALENDAR
VERSION:2.0
PRODID:-//jEvents 2.0 for Joomla//EN
CALSCALE:GREGORIAN
METHOD:PUBLISH
BEGIN:VEVENT
UID:c101b4d6e6d143dd9226bbcb95f5d3d5
CATEGORIES:Aerobic
CREATED:20210702T113139
SUMMARY:Nábor Fajjn aerobic Děčín
LOCATION:Maroldova Děčín
DESCRIPTION;ENCODING=QUOTED-PRINTABLE:\n\nNábor nových členů Fajjn aerobicu Děčín. \n\n\nVěková skupiny 4 - 8 let
 .\n\n\nVíce informací na stránkách www.fajjn-pozdravi.cz.\n\n\n\n
CONTACT:Tato e-mailová adresa je chráněna před spamboty. Pro její zobrazení musíte mít povolen Javascript.
				document.getElementById('cloak9b643e5ea7cb713ff89c465cd8f913d5').innerHTML = '';
				var prefix = '&#109;a' + 'i&#108;' + '&#116;o';
				var path = 'hr' + 'ef' + '=';
				var addy9b643e5ea7cb713ff89c465cd8f913d5 = 'f&#97;jjnp&#111;zdr&#97;v&#105;' + '&#64;';
				addy9b643e5ea7cb713ff89c465cd8f913d5 = addy9b643e5ea7cb713ff89c465cd8f913d5 + 'gm&#97;&#105;l' + '&#46;' + 'c&#111;m';
				var addy_text9b643e5ea7cb713ff89c465cd8f913d5 = 'f&#97;jjnp&#111;zdr&#97;v&#105;' + '&#64;' + 'gm&#97;&#105;l' + '&#46;' + 'c&#111;m';document.getElementById('cloak9b643e5ea7cb713ff89c465cd8f913d5').innerHTML += ''+addy_text9b643e5ea7cb713ff89c465cd8f913d5+'';
		
DTSTAMP:20260425T144205Z
DTSTART:20210901T060000Z
DTEND:20210930T150000Z
SEQUENCE:0
TRANSP:OPAQUE
END:VEVENT
END:VCALENDAR