BEGIN:VCALENDAR
VERSION:2.0
PRODID:-//jEvents 2.0 for Joomla//EN
CALSCALE:GREGORIAN
METHOD:PUBLISH
BEGIN:VEVENT
UID:7bddbf31ac5be4ebf37ecd83629c2ef8
CATEGORIES:Fitness
CREATED:20210524T112138
SUMMARY:Kruháč s Míšou
LOCATION:KS centrum  Děčín - Staré Město (bývalý Chlum)
DESCRIPTION;ENCODING=QUOTED-PRINTABLE:\n\nKondiční kruhový trénink v KS centru Děčín plný potu a zábavy. Kdo máte
  zájem, tak si rezervujte své místo - maximální počet účastníků je 10. \nTe
 rmín: 10.6.2021 v čase 17:00 - 18:00\nCo sebou? Pouze sportovní oblečení, p
 ití a ručník\n\nCVIČÍ SE BEZ BOT - je zde položené tatami\n\n\nRezervace: 6
 04614081\n
CONTACT:604614081
X-EXTRAINFO:NUTNÁ REZERVACE PŘEDEM - počet míst omezen
DTSTAMP:20260425T184800Z
DTSTART:20210610T150000Z
DTEND:20210610T160000Z
SEQUENCE:0
TRANSP:OPAQUE
END:VEVENT
END:VCALENDAR