BEGIN:VCALENDAR
VERSION:2.0
PRODID:-//jEvents 2.0 for Joomla//EN
CALSCALE:GREGORIAN
METHOD:PUBLISH
BEGIN:VEVENT
UID:b2a56f85b5fcf4bd5092c9e5e1fbd3f6
CATEGORIES:VOLNÝ ČÁS
CREATED:20210523T220855
SUMMARY:4.ročník Sportovního dětského dne
LOCATION:fotbalové hřiště, areál SK Březiny
DESCRIPTION;ENCODING=QUOTED-PRINTABLE:\n\nDětský den pro širokou veřejnost. Přijďte si užít krásné odpoledne do j
 edinečného areálu našeho sportovního klubu. Vstup jen 20,-/osobu. Občerstve
 ní zajištěno po celý den. Mnoho atrakcí pro malé i velké děti. \n
CONTACT:Tato e-mailová adresa je chráněna před spamboty. Pro její zobrazení musíte mít povolen Javascript.
				document.getElementById('cloakad3ceb5509a51bb288792e16baaf27df').innerHTML = '';
				var prefix = '&#109;a' + 'i&#108;' + '&#116;o';
				var path = 'hr' + 'ef' + '=';
				var addyad3ceb5509a51bb288792e16baaf27df = 'f&#111;tb&#97;lbr&#101;z&#105;ny' + '&#64;';
				addyad3ceb5509a51bb288792e16baaf27df = addyad3ceb5509a51bb288792e16baaf27df + 's&#101;zn&#97;m' + '&#46;' + 'cz';
				var addy_textad3ceb5509a51bb288792e16baaf27df = 'f&#111;tb&#97;lbr&#101;z&#105;ny' + '&#64;' + 's&#101;zn&#97;m' + '&#46;' + 'cz';document.getElementById('cloakad3ceb5509a51bb288792e16baaf27df').innerHTML += ''+addy_textad3ceb5509a51bb288792e16baaf27df+'';
		, 724 925 406
DTSTAMP:20260424T220356Z
DTSTART:20210626T120000Z
DTEND:20210626T150000Z
SEQUENCE:0
TRANSP:OPAQUE
END:VEVENT
END:VCALENDAR