BEGIN:VCALENDAR
VERSION:2.0
PRODID:-//jEvents 2.0 for Joomla//EN
CALSCALE:GREGORIAN
METHOD:PUBLISH
BEGIN:VEVENT
UID:adfcac8b0c41982f931dd7d99693e2b8
CATEGORIES:Florbal
CREATED:20210521T091510
SUMMARY:Klubová rodinná akce (Florbal DC OPEN Air 2021)
LOCATION:Hokejbalové hřiště
DESCRIPTION;ENCODING=QUOTED-PRINTABLE:
CONTACT:Tomáš Štěpánek (775 862 628)
DTSTAMP:20260425T152329Z
DTSTART:20210618T140000Z
DTEND:20210618T150000Z
SEQUENCE:0
TRANSP:OPAQUE
END:VEVENT
END:VCALENDAR