BEGIN:VCALENDAR
VERSION:2.0
PRODID:-//jEvents 2.0 for Joomla//EN
CALSCALE:GREGORIAN
METHOD:PUBLISH
BEGIN:VEVENT
UID:4f884926c9b230cbe64c104065608538
CATEGORIES:Florbal
CREATED:20210521T091316
SUMMARY:Setkání legend (Florbal DC OPEN Air 2021)
LOCATION:Hokejbalové hřiště
DESCRIPTION;ENCODING=QUOTED-PRINTABLE:\n\nUtkání jenž je součástí týdne plného florbalu DC OPEN Air 2021. Jde o s
 etkání hráčů, kteří v minulých letech reprezentovali děčínský florbal. Akce
  začíná přátelským utkáním a končí sdílením životních zkušeností v restaura
 čním zařízení.\n
CONTACT:Tomáš Štěpánek (775 862 628)
DTSTAMP:20260426T001149Z
DTSTART:20210618T163000Z
DTEND:20210618T180000Z
SEQUENCE:0
TRANSP:OPAQUE
END:VEVENT
END:VCALENDAR