BEGIN:VCALENDAR
VERSION:2.0
PRODID:-//jEvents 2.0 for Joomla//EN
CALSCALE:GREGORIAN
METHOD:PUBLISH
BEGIN:VEVENT
UID:f8056119331e07498318ceff42e2bac4
CATEGORIES:Florbal
CREATED:20210521T091008
SUMMARY:HC vs. FBC (Florbal DC OPEN Air 2021)
LOCATION:Hokejbalové hřiště
DESCRIPTION;ENCODING=QUOTED-PRINTABLE:\n\nPřátelské utkání mužů HC Děčín s muži FBC Děčín jenž je součástí týdne 
 plného florbalu DC OPEN Air 2021.\n\n\nZápas se odehraje pod širým nebem na
  hokejbalovém hřišti. \n
CONTACT:Tomáš Štěpánek (775 862 628)
DTSTAMP:20260425T120518Z
DTSTART:20210617T163000Z
DTEND:20210617T180000Z
SEQUENCE:0
TRANSP:OPAQUE
END:VEVENT
END:VCALENDAR