BEGIN:VCALENDAR
VERSION:2.0
PRODID:-//jEvents 2.0 for Joomla//EN
CALSCALE:GREGORIAN
METHOD:PUBLISH
BEGIN:VEVENT
UID:34c3efb3f06977883acbedeeb9d045ec
CATEGORIES:Florbal
CREATED:20210521T090638
SUMMARY:Klubový nábor (Florbal DC OPEN Air 2021)
LOCATION:Hokejbalové hřiště
DESCRIPTION;ENCODING=QUOTED-PRINTABLE:\n\nSoučástí týdne plného florbalu DC OPEN Air 2021 jsou i náborové hodiny.
  Přijďte si nezávazně vyzkoušet florbalový trénink. Vybavení rádi zapůjčíme
 .\n\n\nO přesném času se prosím předem informujte u trenéra - viz kontakt v
 ýše.\n
CONTACT:Tomáš Štěpánek (775 862 628)
DTSTAMP:20260426T040629Z
DTSTART:20210617T140000Z
DTEND:20210617T150000Z
SEQUENCE:0
TRANSP:OPAQUE
END:VEVENT
END:VCALENDAR