BEGIN:VCALENDAR
VERSION:2.0
PRODID:-//jEvents 2.0 for Joomla//EN
CALSCALE:GREGORIAN
METHOD:PUBLISH
BEGIN:VEVENT
UID:581b6dc4d41bcc0f810d036fcf9a1fb4
CATEGORIES:Florbal
CREATED:20210521T085800
SUMMARY:Turnaj pro rodiče (Florbal DC OPEN Air 2021)
LOCATION:Hokejbalové hřiště
DESCRIPTION;ENCODING=QUOTED-PRINTABLE:\n\nTurnaj / zápas jenž je součástí týdne plného florbalu DC OPEN Air 2021 
 určený pro rodiče našich členů s možností vzít sebou známé či příbuzenstvo 
 a proběhnout se pod širým nebem o sud piva. Turnaj proběhne v odpoledních h
 odinách na hokejbalovém hřišti v Děčíně.\n
CONTACT:Tomáš Štěpánek (775 862 628)
DTSTAMP:20260425T122749Z
DTSTART:20210615T150000Z
DTEND:20210615T170000Z
SEQUENCE:0
TRANSP:OPAQUE
END:VEVENT
END:VCALENDAR