BEGIN:VCALENDAR
VERSION:2.0
PRODID:-//jEvents 2.0 for Joomla//EN
CALSCALE:GREGORIAN
METHOD:PUBLISH
BEGIN:VEVENT
UID:690b7e65f9a391864571b9afe55d102d
CATEGORIES:Florbal
CREATED:20210521T085045
SUMMARY:Turnaj 3.-5. třída MIX (Florbal DC OEPN Air 2021)
LOCATION:Hokejbalové hřiště
DESCRIPTION;ENCODING=QUOTED-PRINTABLE:\n\nTurnaj pro děčínské základní školy jenž je součástí týdne plného florba
 lu DC OPEN Air 2021. Turnaj proběhne v dopoledních hodinách pod širým nebem
  na hokejbalovém hřišti.\n\n\n \n
CONTACT:Tomáš Štěpánek (775 862 628)
DTSTAMP:20260425T215646Z
DTSTART:20210615T060000Z
DTEND:20210615T110000Z
SEQUENCE:0
TRANSP:OPAQUE
END:VEVENT
END:VCALENDAR