BEGIN:VCALENDAR
VERSION:2.0
PRODID:-//jEvents 2.0 for Joomla//EN
CALSCALE:GREGORIAN
METHOD:PUBLISH
BEGIN:VEVENT
UID:6af5ade77260a872440652dfd5a7fb48
CATEGORIES:Florbal
CREATED:20210521T084505
SUMMARY:Turnaj florbalových akademií (Florbal DC OPEN Air 2021)
LOCATION:Hokejbalové hřiště
DESCRIPTION;ENCODING=QUOTED-PRINTABLE:\n\nTurnaj jenž je součástí týdne plného florbalu DC OPEN Air 2021. Účastní
  se jej čtyři děčínské florbalové akademie. Turnaj proběhne v odpoledních h
 odinách pod širým nebem na hokejbalovém hřišti a své florbalové umění zde u
 káží hráči a hráčky z 1-3.tříd.\n
CONTACT:Tomáš Štěpánek (775 862 628)
DTSTAMP:20260426T042614Z
DTSTART:20210614T140000Z
DTEND:20210614T160000Z
SEQUENCE:0
TRANSP:OPAQUE
END:VEVENT
END:VCALENDAR