BEGIN:VCALENDAR
VERSION:2.0
PRODID:-//jEvents 2.0 for Joomla//EN
CALSCALE:GREGORIAN
METHOD:PUBLISH
BEGIN:VEVENT
UID:8deefb2e5a856b38f9a970b550c3a312
CATEGORIES:Florbal
CREATED:20210521T082438
SUMMARY:Nomád Cup (Florbal DC OPEN Air 2021)
LOCATION:Hokejbalové hřiště
DESCRIPTION;ENCODING=QUOTED-PRINTABLE:\n\nMužský turnaj (5+1) jenž je součástí týdne plného florbalu DC OPEN Air 
 2021 pro družstva hrající celostátní soutěže. Hraje se pod širým nebem.\n
CONTACT:Tomáš Štěpánek (775 862 628)
DTSTAMP:20260425T201939Z
DTSTART:20210620T060000Z
DTEND:20210620T150000Z
SEQUENCE:0
TRANSP:OPAQUE
END:VEVENT
END:VCALENDAR