BEGIN:VCALENDAR
VERSION:2.0
PRODID:-//jEvents 2.0 for Joomla//EN
CALSCALE:GREGORIAN
METHOD:PUBLISH
BEGIN:VEVENT
UID:e3a693d647e8180e7acc9762e7efb7b3
CATEGORIES:Florbal
CREATED:20210520T221624
SUMMARY:Florbalový nábor do přípravky
LOCATION:Hokejbalové hřiště
DESCRIPTION;ENCODING=QUOTED-PRINTABLE:\n\nPřijďte si nezávazně vyzkoušet florbalový trénink. Florbalovou hůl rádi
  zapůjčíme. Více informací najdete na speciálním náborovém webu www.florbal
 dc.cz. Tréninky probíhají venku, v případě špatného počasí prosíme nejdříve
  kontaktujte trenéra, který vám poskytne informaci zda a kde jinde případně
  trénink proběhne.\n
CONTACT:Petr Miško (724 148 595)
DTSTAMP:20260425T161629Z
DTSTART:20210511T140000Z
DTEND:20210511T150000Z
SEQUENCE:0
TRANSP:OPAQUE
END:VEVENT
END:VCALENDAR