BEGIN:VCALENDAR
VERSION:2.0
PRODID:-//jEvents 2.0 for Joomla//EN
CALSCALE:GREGORIAN
METHOD:PUBLISH
BEGIN:VEVENT
UID:6aedb43cb7b701568b09bd15087df6f7
CATEGORIES:Florbal
CREATED:20210520T221247
SUMMARY:Florbalový nábor do elévů a mladších žáků
LOCATION:Hokejbalové hřiště
DESCRIPTION;ENCODING=QUOTED-PRINTABLE:\n\nPřijďte si nezávazně vyzkoušet florbalový trénink. Florbalovou hůl rádi
  zapůjčíme. Více informací najdete na speciálním náborovém webu www.florbal
 dc.cz. Tréninky probíhají venku, v případě špatného počasí prosíme nejdříve
  kontaktujte trenéra, který vám poskytne informaci zda a kde jinde případně
  trénink proběhne.\n
CONTACT:David Matza (605 380 399)
DTSTAMP:20260425T124219Z
DTSTART:20210521T140000Z
DTEND:20210521T150000Z
SEQUENCE:0
TRANSP:OPAQUE
END:VEVENT
END:VCALENDAR