BEGIN:VCALENDAR
VERSION:2.0
PRODID:-//jEvents 2.0 for Joomla//EN
CALSCALE:GREGORIAN
METHOD:PUBLISH
BEGIN:VEVENT
UID:9ed7db8c9f16981c5d11fcbb0cc0d26c
CATEGORIES:Florbal
CREATED:20210520T144957
SUMMARY:Florbalový nábor do přípravky
LOCATION:Hokejbalové hřiště
DESCRIPTION;ENCODING=QUOTED-PRINTABLE:\n\nPřijďte si nezávazně vyzkoušet florbalový trénink. Florbalovou hůl rádi
  zapůjčíme. Více informací najdete na speciálním náborovém webu www.florbal
 dc.cz. Tréninky probíhají venku, v případě špatného počasí prosíme nejdříve
  kontaktujte trenéra, který vám poskytne informaci zda a kde jinde případně
  trénink proběhne.\n
CONTACT:Petr Miško (724 148 595)
DTSTAMP:20260425T161603Z
DTSTART:20210518T140000Z
DTEND:20210518T150000Z
SEQUENCE:0
TRANSP:OPAQUE
END:VEVENT
END:VCALENDAR